BEGIN:VCALENDAR
VERSION:2.0
PRODID:-//Step to the Music
CALSCALE:GREGORIAN
METHOD:PUBLISH
X-WR-CALNAME:Step to the Music
X-ORIGINAL-URL:https://www.steptothemusic.com/product/my-life-now/
X-WR-CALDESC:My Life Now
BEGIN:VEVENT
DTSTART:20191026T090000
DTEND:20191026T120000
SUMMARY:My Life Now
DESCRIPTION:In this workshop, participants will engage with the "My Life Now" visual map from the "<a href="https://www.youtube.com/watch?v=NvauBMsW8Rg">Listen to My Life"</a> set of visual maps... "maps for recognizing and responding to God in my story." The "My Life Now" map will help participants reflect honestly on the current realities of life in a way that can serve as a reference point for current and future decisions.
LOCATION:Personal Residence: 1308 W Jackson Pl, Williston, ND, United States
END:VEVENT
END:VCALENDAR
